BEGIN:VCALENDAR
VERSION:2.0
PRODID:-//Dean Of The Dead&#039;s - ECPv6.0.5//NONSGML v1.0//EN
CALSCALE:GREGORIAN
METHOD:PUBLISH
X-WR-CALNAME:Dean Of The Dead&#039;s
X-ORIGINAL-URL:https://deanofthedead.com
X-WR-CALDESC:Events for Dean Of The Dead&#039;s
REFRESH-INTERVAL;VALUE=DURATION:PT1H
X-Robots-Tag:noindex
X-PUBLISHED-TTL:PT1H
BEGIN:VTIMEZONE
TZID:Europe/London
BEGIN:DAYLIGHT
TZOFFSETFROM:+0000
TZOFFSETTO:+0100
TZNAME:BST
DTSTART:20220327T010000
END:DAYLIGHT
BEGIN:STANDARD
TZOFFSETFROM:+0100
TZOFFSETTO:+0000
TZNAME:GMT
DTSTART:20221030T010000
END:STANDARD
END:VTIMEZONE
BEGIN:VEVENT
DTSTART;VALUE=DATE:20221203
DTEND;VALUE=DATE:20221205
DTSTAMP:20260419T221831
CREATED:20220319T073008Z
LAST-MODIFIED:20220319T073008Z
UID:16128-1670025600-1670198399@deanofthedead.com
SUMMARY:For the Love of Sci-Fi
DESCRIPTION:
URL:https://deanofthedead.com/event/for-the-love-of-sci-fi
LOCATION:Bowlers Exhibition Centre\, Longbridge Road\, Manchester\, Stretford\, M17 1EH\, United Kingdom
CATEGORIES:Comic Con
END:VEVENT
BEGIN:VEVENT
DTSTART;VALUE=DATE:20221124
DTEND;VALUE=DATE:20221128
DTSTAMP:20260419T221831
CREATED:20220319T072753Z
LAST-MODIFIED:20220319T072753Z
UID:16125-1669248000-1669593599@deanofthedead.com
SUMMARY:BBC Good Food Show Winter
DESCRIPTION:
URL:https://deanofthedead.com/event/bbc-good-food-show-winter
LOCATION:Birminghm NEC
END:VEVENT
BEGIN:VEVENT
DTSTART;VALUE=DATE:20221112
DTEND;VALUE=DATE:20221114
DTSTAMP:20260419T221831
CREATED:20220319T072656Z
LAST-MODIFIED:20220319T072656Z
UID:16122-1668211200-1668383999@deanofthedead.com
SUMMARY:MCM Comic-Con Birmingham
DESCRIPTION:
URL:https://deanofthedead.com/event/mcm-comic-con-birmingham
LOCATION:Birminghm NEC
CATEGORIES:Comic Con
END:VEVENT
BEGIN:VEVENT
DTSTART;VALUE=DATE:20221028
DTEND;VALUE=DATE:20221031
DTSTAMP:20260419T221831
CREATED:20220319T072527Z
LAST-MODIFIED:20220319T072527Z
UID:16119-1666915200-1667174399@deanofthedead.com
SUMMARY:MCM Comic-Con London
DESCRIPTION:
URL:https://deanofthedead.com/event/mcm-comic-con-london-2
LOCATION:Stretford
CATEGORIES:Comic Con
END:VEVENT
BEGIN:VEVENT
DTSTART;VALUE=DATE:20221022
DTEND;VALUE=DATE:20221024
DTSTAMP:20260419T221831
CREATED:20220319T072434Z
LAST-MODIFIED:20220319T072434Z
UID:16116-1666396800-1666569599@deanofthedead.com
SUMMARY:For The Love of Horror
DESCRIPTION:
URL:https://deanofthedead.com/event/for-the-love-of-horror
LOCATION:Bowlers Exhibition Centre\, Longbridge Road\, Manchester\, Stretford\, M17 1EH\, United Kingdom
CATEGORIES:Comic Con
END:VEVENT
BEGIN:VEVENT
DTSTART;VALUE=DATE:20221008
DTEND;VALUE=DATE:20221010
DTSTAMP:20260419T221831
CREATED:20220319T072346Z
LAST-MODIFIED:20220319T072346Z
UID:16112-1665187200-1665359999@deanofthedead.com
SUMMARY:Comic-Con Edinburgh
DESCRIPTION:
URL:https://deanofthedead.com/event/comic-con-edinburgh
LOCATION:Edinburgh Royal Highland Centre
CATEGORIES:Comic Con
END:VEVENT
BEGIN:VEVENT
DTSTART;VALUE=DATE:20220924
DTEND;VALUE=DATE:20220925
DTSTAMP:20260419T221831
CREATED:20220319T072139Z
LAST-MODIFIED:20220319T072139Z
UID:16108-1663977600-1664063999@deanofthedead.com
SUMMARY:Wiltshire Chilli Fest
DESCRIPTION:
URL:https://deanofthedead.com/event/wiltshire-chilli-fest
LOCATION:Westbury town cenre
END:VEVENT
BEGIN:VEVENT
DTSTART;VALUE=DATE:20220924
DTEND;VALUE=DATE:20220926
DTSTAMP:20260419T221831
CREATED:20220319T072039Z
LAST-MODIFIED:20220319T072039Z
UID:16104-1663977600-1664150399@deanofthedead.com
SUMMARY:Nor-Con
DESCRIPTION:
URL:https://deanofthedead.com/event/nor-con
LOCATION:Indoor Arena\, Norfolk Showground
CATEGORIES:Comic Con
END:VEVENT
BEGIN:VEVENT
DTSTART;VALUE=DATE:20220917
DTEND;VALUE=DATE:20220919
DTSTAMP:20260419T221831
CREATED:20220319T071853Z
LAST-MODIFIED:20220319T071853Z
UID:16101-1663372800-1663545599@deanofthedead.com
SUMMARY:Surrey Chilli Fest
DESCRIPTION:
URL:https://deanofthedead.com/event/surrey-chilli-fest
LOCATION:Stretford
END:VEVENT
BEGIN:VEVENT
DTSTART;VALUE=DATE:20220917
DTEND;VALUE=DATE:20220919
DTSTAMP:20260419T221831
CREATED:20220319T071754Z
LAST-MODIFIED:20220319T071754Z
UID:16097-1663372800-1663545599@deanofthedead.com
SUMMARY:Comic-Con Northern Ireland
DESCRIPTION:
URL:https://deanofthedead.com/event/comic-con-northern-ireland
LOCATION:Eikon Exhibition Centre
CATEGORIES:Comic Con
END:VEVENT
BEGIN:VEVENT
DTSTART;VALUE=DATE:20220903
DTEND;VALUE=DATE:20220905
DTSTAMP:20260419T221831
CREATED:20220319T071607Z
LAST-MODIFIED:20220319T071607Z
UID:16094-1662163200-1662335999@deanofthedead.com
SUMMARY:Birmingham Film & Comic-Con
DESCRIPTION:
URL:https://deanofthedead.com/event/birmingham-film-comic-con
LOCATION:Birminghm NEC
CATEGORIES:Comic Con
END:VEVENT
BEGIN:VEVENT
DTSTART;VALUE=DATE:20220902
DTEND;VALUE=DATE:20220905
DTSTAMP:20260419T221831
CREATED:20220319T071458Z
LAST-MODIFIED:20220319T071458Z
UID:16090-1662076800-1662335999@deanofthedead.com
SUMMARY:Meatopia
DESCRIPTION:
URL:https://deanofthedead.com/event/meatopia
LOCATION:London Tobacco Dock\, Wapping
END:VEVENT
BEGIN:VEVENT
DTSTART;VALUE=DATE:20220827
DTEND;VALUE=DATE:20220830
DTSTAMP:20260419T221831
CREATED:20220319T071250Z
LAST-MODIFIED:20220319T071250Z
UID:16086-1661558400-1661817599@deanofthedead.com
SUMMARY:Bennington Chilli Festival
DESCRIPTION:
URL:https://deanofthedead.com/event/bennington-chilli-festival
LOCATION:Lordship Gardens
END:VEVENT
BEGIN:VEVENT
DTSTART;VALUE=DATE:20220820
DTEND;VALUE=DATE:20220822
DTSTAMP:20260419T221831
CREATED:20220319T071036Z
LAST-MODIFIED:20220319T071036Z
UID:16081-1660953600-1661126399@deanofthedead.com
SUMMARY:Glasgow Film & Comic-Con
DESCRIPTION:
URL:https://deanofthedead.com/event/glasgow-film-comic-con
LOCATION:Braehead Arena
CATEGORIES:Comic Con
END:VEVENT
BEGIN:VEVENT
DTSTART;VALUE=DATE:20220806
DTEND;VALUE=DATE:20220808
DTSTAMP:20260419T221831
CREATED:20220319T065838Z
LAST-MODIFIED:20220319T065838Z
UID:16070-1659744000-1659916799@deanofthedead.com
SUMMARY:Sussex Comic-Con
DESCRIPTION:
URL:https://deanofthedead.com/event/sussex-comic-con
LOCATION:Robertsbridge Community College
CATEGORIES:Comic Con
END:VEVENT
BEGIN:VEVENT
DTSTART;VALUE=DATE:20220806
DTEND;VALUE=DATE:20220808
DTSTAMP:20260419T221831
CREATED:20220319T065657Z
LAST-MODIFIED:20220319T065657Z
UID:16066-1659744000-1659916799@deanofthedead.com
SUMMARY:Comic-Con Wales
DESCRIPTION:
URL:https://deanofthedead.com/event/comic-con-wales
LOCATION:Newport
CATEGORIES:Comic Con
END:VEVENT
BEGIN:VEVENT
DTSTART;VALUE=DATE:20220716
DTEND;VALUE=DATE:20220718
DTSTAMP:20260419T221831
CREATED:20220319T065312Z
LAST-MODIFIED:20220319T065312Z
UID:16059-1657929600-1658102399@deanofthedead.com
SUMMARY:Guildford Cheese & Chilli Festival
DESCRIPTION:
URL:https://deanofthedead.com/event/guildford-cheese-chilli-festival
LOCATION:Shalford Park\, Guildford
END:VEVENT
BEGIN:VEVENT
DTSTART;VALUE=DATE:20220708
DTEND;VALUE=DATE:20220711
DTSTAMP:20260419T221831
CREATED:20220319T065019Z
LAST-MODIFIED:20220319T065019Z
UID:16055-1657238400-1657497599@deanofthedead.com
SUMMARY:Chilli Bobs East Midlands Chilli Festival
DESCRIPTION:
URL:https://deanofthedead.com/event/chilli-bobs-east-midlands-chilli-festival
LOCATION:Southwell Racecourse
END:VEVENT
BEGIN:VEVENT
DTSTART;VALUE=DATE:20220708
DTEND;VALUE=DATE:20220711
DTSTAMP:20260419T221831
CREATED:20220319T064839Z
LAST-MODIFIED:20220319T064839Z
UID:16051-1657238400-1657497599@deanofthedead.com
SUMMARY:London Film & Comic-Con (Summer Edition)
DESCRIPTION:
URL:https://deanofthedead.com/event/london-film-comic-con-summer-edition
LOCATION:London Kenington Olympia
CATEGORIES:Comic Con
END:VEVENT
BEGIN:VEVENT
DTSTART;VALUE=DATE:20220702
DTEND;VALUE=DATE:20220704
DTSTAMP:20260419T221831
CREATED:20220319T064705Z
LAST-MODIFIED:20220319T064705Z
UID:16047-1656720000-1656892799@deanofthedead.com
SUMMARY:Swindon Cheese & Chilli Festival
DESCRIPTION:
URL:https://deanofthedead.com/event/swindon-cheese-chilli-festival
LOCATION:Lydiard Park\, Swindon
END:VEVENT
BEGIN:VEVENT
DTSTART;VALUE=DATE:20220624
DTEND;VALUE=DATE:20220627
DTSTAMP:20260419T221831
CREATED:20220319T064430Z
LAST-MODIFIED:20220319T064430Z
UID:16043-1656028800-1656287999@deanofthedead.com
SUMMARY:The Big Feasty
DESCRIPTION:
URL:https://deanofthedead.com/event/the-big-feasty
LOCATION:Apps Court Farm\, Walton on Thames
END:VEVENT
BEGIN:VEVENT
DTSTART;VALUE=DATE:20220618
DTEND;VALUE=DATE:20220620
DTSTAMP:20260419T221831
CREATED:20220319T064238Z
LAST-MODIFIED:20220319T064238Z
UID:16039-1655510400-1655683199@deanofthedead.com
SUMMARY:Winchester Cheese & Chilli Festival
DESCRIPTION:
URL:https://deanofthedead.com/event/winchester-cheese-chilli-festival
LOCATION:North Walls Recreation Gound
END:VEVENT
BEGIN:VEVENT
DTSTART;VALUE=DATE:20220616
DTEND;VALUE=DATE:20220620
DTSTAMP:20260419T221831
CREATED:20220319T063959Z
LAST-MODIFIED:20220319T063959Z
UID:16035-1655337600-1655683199@deanofthedead.com
SUMMARY:BBC Good Food Show - Summer
DESCRIPTION:
URL:https://deanofthedead.com/event/bbc-good-food-show-summer
LOCATION:Birminghm NEC
END:VEVENT
BEGIN:VEVENT
DTSTART;VALUE=DATE:20220604
DTEND;VALUE=DATE:20220606
DTSTAMP:20260419T221831
CREATED:20220319T063847Z
LAST-MODIFIED:20220319T063847Z
UID:16031-1654300800-1654473599@deanofthedead.com
SUMMARY:Great Yarmouth Comic-Con
DESCRIPTION:
URL:https://deanofthedead.com/event/great-yarmouth-comic-con
LOCATION:Great Yarmouth Racecourse
CATEGORIES:Comic Con
END:VEVENT
BEGIN:VEVENT
DTSTART;VALUE=DATE:20220530
DTEND;VALUE=DATE:20220601
DTSTAMP:20260419T221831
CREATED:20220319T065441Z
LAST-MODIFIED:20220319T070531Z
UID:16063-1653868800-1654041599@deanofthedead.com
SUMMARY:Comic-Con Manchester
DESCRIPTION:
URL:https://deanofthedead.com/event/comic-con-manchester
LOCATION:Bowlers Exhibition Centre\, Longbridge Road\, Manchester\, Stretford\, M17 1EH\, United Kingdom
CATEGORIES:Comic Con
END:VEVENT
BEGIN:VEVENT
DTSTART;VALUE=DATE:20220528
DTEND;VALUE=DATE:20220530
DTSTAMP:20260419T221831
CREATED:20220319T063649Z
LAST-MODIFIED:20220319T070720Z
UID:16027-1653696000-1653868799@deanofthedead.com
SUMMARY:Christchurch Cheese & Chilli Festival
DESCRIPTION:
URL:https://deanofthedead.com/event/christchurch-cheese-chilli-festival
LOCATION:Bournemouth Internional Airport
END:VEVENT
BEGIN:VEVENT
DTSTART;VALUE=DATE:20220527
DTEND;VALUE=DATE:20220530
DTSTAMP:20260419T221831
CREATED:20220319T063444Z
LAST-MODIFIED:20220319T070612Z
UID:16023-1653609600-1653868799@deanofthedead.com
SUMMARY:MCM Comic-Con London
DESCRIPTION:
URL:https://deanofthedead.com/event/mcm-comic-con-london
LOCATION:London Excel
CATEGORIES:Comic Con
END:VEVENT
BEGIN:VEVENT
DTSTART;VALUE=DATE:20220521
DTEND;VALUE=DATE:20220523
DTSTAMP:20260419T221831
CREATED:20220319T063336Z
LAST-MODIFIED:20220319T070843Z
UID:16020-1653091200-1653263999@deanofthedead.com
SUMMARY:Comic-Con Liverpool
DESCRIPTION:
URL:https://deanofthedead.com/event/comic-con-liverpool
LOCATION:Stretford
CATEGORIES:Comic Con
END:VEVENT
BEGIN:VEVENT
DTSTART;VALUE=DATE:20220521
DTEND;VALUE=DATE:20220523
DTSTAMP:20260419T221831
CREATED:20220319T063254Z
LAST-MODIFIED:20220319T070804Z
UID:16017-1653091200-1653263999@deanofthedead.com
SUMMARY:HorrorCon Sheffield
DESCRIPTION:
URL:https://deanofthedead.com/event/horrorcon-sheffield
LOCATION:Manga Science adventure centre\, Sheffield Road\, Sheffield\, S60 1DX\, United Kingdom
CATEGORIES:Comic Con
END:VEVENT
BEGIN:VEVENT
DTSTART;VALUE=DATE:20220510
DTEND;VALUE=DATE:20220511
DTSTAMP:20260419T221831
CREATED:20220319T063150Z
LAST-MODIFIED:20220319T063150Z
UID:16013-1652140800-1652227199@deanofthedead.com
SUMMARY:ScareCon
DESCRIPTION:Thorpe Park
URL:https://deanofthedead.com/event/scarecon
LOCATION:Thorpe Park\, United Kingdom
END:VEVENT
END:VCALENDAR